BEGIN:VCALENDAR
VERSION:2.0
PRODID:-//Tukios.com/
BEGIN:VEVENT
UID:a099bbfd-1f91-40e5-a87f-cba1c227a871@www.newcomerindianapolis.com
DTSTAMP:20260423T211749Z
DTSTART:20260430T190000Z
DTEND:20260430T210000Z
SUMMARY:Memorial Gathering
DESCRIPTION:
URL:https://www.newcomerindianapolis.com/obituaries/albert-christensen
LOCATION: 925 E Hanna Ave  Indianapolis IN 46227
GEO:39.7074739;-86.1443727
END:VEVENT
END:VCALENDAR