BEGIN:VCALENDAR
VERSION:2.0
PRODID:-//Tukios.com/
BEGIN:VEVENT
UID:b7010f5e-b37d-4667-b4fc-f4d7dc8bab9b@www.newcomerindianapolis.com
DTSTAMP:20260421T230610Z
DTSTART:20260429T200000Z
DTEND:20260429T220000Z
SUMMARY:Memorial Gathering
DESCRIPTION:
URL:https://www.newcomerindianapolis.com/obituaries/dale-smith
LOCATION: 925 E Hanna Ave  Indianapolis IN 46227
GEO:39.7074739;-86.1443727
END:VEVENT
END:VCALENDAR