BEGIN:VCALENDAR
VERSION:2.0
PRODID:-//Tukios.com/
BEGIN:VEVENT
UID:6ef39bca-3cf6-4f2a-b0bb-83c4be2dd2fe@www.newcomerindianapolis.com
DTSTAMP:20260423T024342Z
DTSTART:20260423T200000Z
DTEND:20260423T220000Z
SUMMARY:Visitation
DESCRIPTION:
URL:https://www.newcomerindianapolis.com/obituaries/johney-vanzandt-jr
LOCATION: 925 E Hanna Ave  Indianapolis IN 46227
GEO:39.7074739;-86.1443727
END:VEVENT
END:VCALENDAR