BEGIN:VCALENDAR
VERSION:2.0
PRODID:-//Tukios.com/
BEGIN:VEVENT
UID:599a7ad4-5569-467e-bc56-526677996b1f@www.newcomerindianapolis.com
DTSTAMP:20260422T021417Z
DTSTART:20260428T150000Z
DTEND:20260428T170000Z
SUMMARY:Visitation
DESCRIPTION:
URL:https://www.newcomerindianapolis.com/obituaries/sue-plotz
LOCATION: 925 E Hanna Ave  Indianapolis IN 46227
GEO:39.7074739;-86.1443727
END:VEVENT
END:VCALENDAR