BEGIN:VCALENDAR
VERSION:2.0
PRODID:-//Tukios.com/
BEGIN:VEVENT
UID:3211a66c-f38f-4220-92c1-0653b5f8c26d@www.newcomerindianapolis.com
DTSTAMP:20260422T021622Z
DTSTART:20260428T170000Z
DTEND:20260428T180000Z
SUMMARY:Funeral Service
DESCRIPTION:
URL:https://www.newcomerindianapolis.com/obituaries/sue-plotz
LOCATION: 925 E Hanna Ave  Indianapolis IN 46227
GEO:39.7074739;-86.1443727
END:VEVENT
END:VCALENDAR