BEGIN:VCALENDAR
VERSION:2.0
PRODID:-//Tukios.com/
BEGIN:VEVENT
UID:6cee9356-0315-4c67-9d32-cb6fea843e06@www.newcomerindianapolis.com
DTSTAMP:20260422T021049Z
DTSTART:20260428T183000Z
DTEND:20260428T193000Z
SUMMARY:Burial
DESCRIPTION:
URL:https://www.newcomerindianapolis.com/obituaries/sue-plotz
LOCATION: 1977 South State Road 135  Greenwood IN 46143
GEO:39.5889369;-86.1584204
END:VEVENT
END:VCALENDAR